BEGIN:VCALENDAR
VERSION:2.0
PRODID:-//ChamberMaster//Event Calendar 2.0//EN
METHOD:PUBLISH
X-PUBLISHED-TTL:P3D
REFRESH-INTERVAL:P3D
CALSCALE:GREGORIAN
BEGIN:VEVENT
DTSTART:20191205T220000Z
DTEND:20191206T000000Z
X-MICROSOFT-CDO-ALLDAYEVENT:FALSE
SUMMARY:Young Professionals Ugly Sweater Party The Boulevard Inn & Bistro
DESCRIPTION:December's Mixer and Ugly Sweater party takes us to The Boulevard Inn & Bistro! Join us as we welcome in the holiday season with the best of the ugly\, all in the name of a great cause!\n\n\n\nFor 2019\, we've partnered with The Avenue Family Network to raise funds for the Cora Lamping Center\, funds collected that evening will go towards helping domestic violence and sexual assault victims to heal physically\, mentally\, and emotionally. \n\n\n\n1 out of every 4 women experience domestic violence in her lifetime. 1 in 5 women\, and 1 in 7 men will be the victim of sexual violence in their lifetime.\n\n\n\nTo learn more about the Cora Lamping Center\, visit: https://www.theavenue.ngo/coralampingcenter/
X-ALT-DESC;FMTTYPE=text/html:December&#39\;s Mixer and Ugly Sweater party takes us to The Boulevard Inn &amp\; Bistro!&nbsp\;Join us as we welcome in the holiday season with the best of the ugly\, all in the name of a great cause!<br />\n<br />\nFor 2019\, we&#39\;ve partnered with The Avenue Family Network to raise funds for the Cora Lamping Center\, funds collected that evening will go towards helping domestic violence and sexual assault victims to heal physically\, mentally\, and emotionally.&nbsp\;<br />\n<br />\n1 out of every 4 women experience domestic violence in her lifetime. 1 in 5 women\, and 1 in 7 men will be the victim of sexual violence in their lifetime.<br />\n<br />\nTo learn more about the Cora Lamping Center\, visit:&nbsp\;<span style="color:#212121\;"><span style="font-family:calibri\,sans-serif\;"><span style="font-size:11.0pt\;"><a href="https://www.theavenue.ngo/coralampingcenter/">https://www.theavenue.ngo/coralampingcenter/</a></span></span></span>
LOCATION:The Boulevard Inn & Bistro Lake Blvd St. Joseph\, MI 49085
UID:e.1569.8149
SEQUENCE:3
DTSTAMP:20260421T110029Z
URL:https://business.smrchamber.com/events/details/young-professionals-ugly-sweater-party-the-boulevard-inn-bistro-8149
END:VEVENT

END:VCALENDAR
