BEGIN:VCALENDAR
VERSION:2.0
PRODID:-//ChamberMaster//Event Calendar 2.0//EN
METHOD:PUBLISH
X-PUBLISHED-TTL:P3D
REFRESH-INTERVAL:P3D
CALSCALE:GREGORIAN
BEGIN:VEVENT
DTSTART:20260509T180000Z
DTEND:20260509T200000Z
X-MICROSOFT-CDO-ALLDAYEVENT:FALSE
SUMMARY:Women's Afternoon Tea to Celebrate Mother's Day
DESCRIPTION:Please Come to an Afternoon Tea @ St Joe River Lodge\n\n\n\n2801 Niles Buchanan Road\n\nBuchanan\, MI 49107\n\n\n\nFee: $55/person\n\n\n\nAll women are invited! Mothers\, Daughters\, Sisters\, Grandmothers.\n\n\n\nDate: Saturday May 9 at 2:00-4:00 pm\n\n\n\n\n\nMENU\n\n\n\nSavory\n\nCucumber sandwich\n\nMini-Quiche\n\nCrostini   humus and shredded carrots\n\n \n\nScones\n\nScones\n\nLemon Curd\n\nRaspberry Jam & Whipped Cream\n\n \n\nSweets\n\nLemon pound cake\n\nFruit kabobs\n\nChocolate mousse cups\n\n \n\nPlease register here: https://square.link/u/eRauTUJV?src=sheet
X-ALT-DESC;FMTTYPE=text/html:<span style="font-size:14px"><strong>Please Come to an Afternoon Tea @ St Joe River Lodge</strong></span><br />\n<br />\n2801 Niles Buchanan Road<br />\nBuchanan\, MI 49107<br />\n<br />\nFee: $55/person<br />\n<br />\nAll women are invited! Mothers\, Daughters\, Sisters\, Grandmothers.<br />\n<br />\nDate: Saturday May 9 at 2:00-4:00 pm<br />\n<br />\n<br />\n<strong>MENU</strong><br />\n<br />\n<strong><u>Savory</u></strong><br />\nCucumber sandwich<br />\nMini-Quiche<br />\nCrostini &ndash\; humus and shredded carrots<br />\n&nbsp\;<br />\n<strong><u>Scones</u></strong><br />\nScones<br />\nLemon Curd<br />\nRaspberry Jam &amp\; Whipped Cream<br />\n&nbsp\;<br />\n<strong><u>Sweets</u></strong><br />\nLemon pound cake<br />\nFruit kabobs<br />\nChocolate mousse cups<br />\n&nbsp\;<br />\nPlease register here:&nbsp\;<a href="https://square.link/u/eRauTUJV?src=sheet&amp\;fbclid=IwZXh0bgNhZW0CMTAAYnJpZBExZ1AzTkhTMmc3Y20wMW5kZ3NydGMGYXBwX2lkEDIyMjAzOTE3ODgyMDA4OTIAAR7YxhlnP85RyHYxPExBoWouAHIEjrs4DAibtlOIDl5TqxezYWTA6YD_678tXw_aem_pYbAVMYF6A9tZsMjWxCYFw" style="color: rgb(11\, 87\, 208)\; text-decoration: none\;">https://square.link/u/eRauTUJV?src=sheet</a><br />\n&nbsp\;
LOCATION:St Joe River Lodge 2801 Niles Buchanan Road Buchanan\, MI 49107
UID:e.1569.18061
SEQUENCE:3
DTSTAMP:20260426T035128Z
URL:https://business.smrchamber.com/events/details/women-s-afternoon-tea-to-celebrate-mother-s-day-18061
END:VEVENT

END:VCALENDAR
