BEGIN:VCALENDAR
VERSION:2.0
PRODID:-//ChamberMaster//Event Calendar 2.0//EN
METHOD:PUBLISH
X-PUBLISHED-TTL:P3D
REFRESH-INTERVAL:P3D
CALSCALE:GREGORIAN
BEGIN:VEVENT
DTSTART:20240917T153000Z
DTEND:20240917T170000Z
X-MICROSOFT-CDO-ALLDAYEVENT:FALSE
SUMMARY:SW MI SHRM Lunch and Learn: Medicare – Basic Knowledge & Information
DESCRIPTION:SW Michigan SHRM Lunch and Learn\n\n \n\nWe get a ton of questions form the HR community regarding Medicare and how it works   especially as our workforce continues to work well past 65 years of age.   This month's programming should help you help your employees better.\n\n \n\n\n	Tuesday\, September 17th 11:30am   1pm\n	Topic: Medicare   Basic Knowledge & Information\n	Speaker: Kara Gargano\, MSW   Michigan Medicare Assistance Program (MMAP) Regional Coordinator for Berrien\, Cass\, and Van Buren at Area Agency on Aging\n	This presentation will outline how plans work in accordance with Medicare and the basic outline of principals. We will discuss what makes these plans unique and what may be some advantages and disadvantages of enrolling in such a plan for an individual.\n\n\n \n\nA few future dates for you to mark on your calendars.\n\n \n\nMI SHRM Conference   October 23-35\n\nIf you haven't registered\, what are you waiting for?  Did you know SW MI SHRM has two $100 scholarships available to help offset some of your cost for you?\n\n \n\nCoffee with MIOSHA   October 30 brought to you by Corewell Health\n\n \n\nREGISTER NOW!
X-ALT-DESC;FMTTYPE=text/html:<p><span style="font-size:14px\;"><span style="font-family:arial\;"><strong><em><u>SW Michigan SHRM Lunch and Learn</u></em></strong><br />\n&nbsp\;</span></span><br />\n<span style="font-size:11pt\;">We get a ton of questions form the HR community regarding Medicare and how it works &ndash\; especially as our workforce continues to work well past 65 years of age.&nbsp\;&nbsp\; This month&rsquo\;s programming should help you help your employees better.</span><br />\n&nbsp\;</p>\n\n<ul>\n	<li style="font-size:11pt\;font-family:Aptos\, sans-serif\;color:black\;"><span style="font-family:calibri\,sans-serif\;">Tuesday\, September 17<sup>th</sup>&nbsp\;11:30am &ndash\; 1pm</span></li>\n	<li style="font-size:11pt\;font-family:Aptos\, sans-serif\;color:black\;"><span style="font-family:calibri\,sans-serif\;">Topic: Medicare &ndash\; Basic Knowledge &amp\; Information</span></li>\n	<li style="font-size:11pt\;font-family:Aptos\, sans-serif\;color:black\;"><span style="font-family:calibri\,sans-serif\;">Speaker: Kara Gargano\, MSW &ndash\; Michigan Medicare Assistance Program (MMAP) Regional Coordinator for Berrien\, Cass\, and Van Buren at Area Agency on Aging</span></li>\n	<li style="font-size:11pt\;font-family:Aptos\, sans-serif\;color:black\;"><span style="font-family:calibri\,sans-serif\;">This presentation will outline how plans work in accordance with Medicare and the basic outline of principals. We will discuss what makes these plans unique and what may be some advantages and disadvantages of enrolling in such a plan for an individual.</span></li>\n</ul>\n\n<p>&nbsp\;<br />\n<span style="font-size:11pt\;">A few future dates for you to mark on your calendars.</span><br />\n&nbsp\;<br />\n<span style="font-size:11pt\;">MI SHRM Conference &ndash\; October 23-35</span><br />\n<span style="font-size:11pt\;">If you haven&rsquo\;t registered\, what are you waiting for?&nbsp\; Did you know SW MI SHRM has two $100 scholarships available to help offset some of your cost for you?</span><br />\n&nbsp\;<br />\nCoffee with MIOSHA &ndash\; October 30 brought to you by Corewell Health<br />\n&nbsp\;<br />\n<a href="http://forms.office.com/r/GUzeLGSbxB">REGISTER NOW!</a></p>\n
LOCATION:Corewell Health on Meadowbrook in Benton Harbor
UID:e.1569.15995
SEQUENCE:3
DTSTAMP:20260423T005631Z
URL:https://business.smrchamber.com/events/details/sw-mi-shrm-lunch-and-learn-medicare-basic-knowledge-information-15995
END:VEVENT

END:VCALENDAR
