BEGIN:VCALENDAR
VERSION:2.0
PRODID:-//ChamberMaster//Event Calendar 2.0//EN
METHOD:PUBLISH
X-PUBLISHED-TTL:P3D
REFRESH-INTERVAL:P3D
CALSCALE:GREGORIAN
BEGIN:VEVENT
DTSTART:20200404T140000Z
DTEND:20200404T210000Z
X-MICROSOFT-CDO-ALLDAYEVENT:FALSE
SUMMARY:Smithsonian Museum Day: Earth Optimism
DESCRIPTION:Join us to celebrate the power of museums through the Smithsonian Museum Day 2020! This year's theme is Earth Optimism and celebrating global conservation. Guests will enjoy fun activities throughout the grounds\, enjoy special treats\, and more! Schedule to be released closer to the date.\n\n\n\nAdmission is free and will be open all day.
X-ALT-DESC;FMTTYPE=text/html:<span style="color:rgb(29\, 33\, 41)\; font-family:helvetica\,arial\,sans-serif\; font-size:14px">Join us to celebrate the power of museums through the Smithsonian Museum Day 2020! This year&#39\;s theme is Earth Optimism and celebrating global conservation. Guests will enjoy fun activities throughout the grounds\, enjoy special treats\, and more! Schedule to be released closer to the date.</span><br />\n<br />\n<span style="color:rgb(29\, 33\, 41)\; font-family:helvetica\,arial\,sans-serif\; font-size:14px">Admission is free and will be open all day.</span>
LOCATION:313 N. Cass Street Berrien Springs\, MI 49103
UID:e.1569.9229
SEQUENCE:3
DTSTAMP:20260425T215616Z
URL:https://business.smrchamber.com/events/details/smithsonian-museum-day-earth-optimism-9229
END:VEVENT

END:VCALENDAR
