BEGIN:VCALENDAR
VERSION:2.0
PRODID:-//ChamberMaster//Event Calendar 2.0//EN
METHOD:PUBLISH
X-PUBLISHED-TTL:P3D
REFRESH-INTERVAL:P3D
CALSCALE:GREGORIAN
BEGIN:VEVENT
DTSTART:20191222T180000Z
DTEND:20191222T220000Z
X-MICROSOFT-CDO-ALLDAYEVENT:FALSE
SUMMARY:Santa's House
DESCRIPTION:Picture perfect holiday fun is available weekends in December in downtown St. Joseph. Santa's house will be located on the corner of State and Pleasant Streets.\n\nPhotography is not provided. Everyone is encouraged to bring their own camera!
X-ALT-DESC;FMTTYPE=text/html:<p>Picture perfect holiday fun is available weekends in December in downtown St. Joseph. Santa&#39\;s house will be located on the corner of State and Pleasant Streets.</p>\n\n<p>Photography is not provided. Everyone is encouraged to bring their own camera!</p>\n
LOCATION:Downtown St. Joseph - Corner of State and Pleasant
UID:e.1569.8443
SEQUENCE:3
DTSTAMP:20260419T223707Z
URL:https://business.smrchamber.com/events/details/santa-s-house-12-22-2019-8443
END:VEVENT

END:VCALENDAR
