BEGIN:VCALENDAR
VERSION:2.0
PRODID:-//ChamberMaster//Event Calendar 2.0//EN
METHOD:PUBLISH
X-PUBLISHED-TTL:P3D
REFRESH-INTERVAL:P3D
CALSCALE:GREGORIAN
BEGIN:VEVENT
DTSTART:20240606T200000Z
DTEND:20240606T230000Z
X-MICROSOFT-CDO-ALLDAYEVENT:FALSE
SUMMARY:Ribbon Cutting: Villwocks: Dorothy & Al's Farm Market
DESCRIPTION:SAVE THE DATE AND JOIN THE SOUTHWEST MICHIGAN REGIONAL CHAMBER AND HARBOR COUNTRY CHAMBER ON JUNE 6TH! \n \n\nThere is something to be said about having both a vision for a project as well as the passion and ability to see it come to life. That's exactly what Michael Villwock has been able to accomplish with his growing business Villwocks Outdoor Living and now Dorothy & Al's Farm Market. \n \n\nHaving expanded first at the M-139 location in Berrien Springs last year with the addition of a new 24\,000 square foot greenhouse\, 2024 saw Michael and his family also announced the opening of a new Sawyer location for Villwocks Outdoor Living and simultaneously the opening of Dorothy & Al's Farm Market (Berrien Springs). \n \n\n"Dorothy & Al are my grandparents\, the ones who introduced me to the world of agriculture and horticulture and helped me fall in love with it\," says Villwock. "Being able to open a farm market in their honor and continue to provide opportunities for people to connect with our roots means the world to me\, my family\, and our team." \n \n\nDorothy & Al's Farm Market will have a true farm market feel to it\, with multiple regional vendors' products showcased inside\, including many from Southwest Michigan!\n \n\n"We are continuing to build on making our space a destination for folks to visit and provide them with access to other businesses that they may otherwise never discover\," adds Villwock. \n\nJoin us for an official Ribbon Cutting celebration on Thursday\, June 6th\, from 4:00 to 7:00 p.m.\, co-hosted by the Southwest Michigan Regional Chamber and the Harbor Country Chamber of Commerce. The event will feature remarks and the cutting of the ribbon at 5:30 p.m.\n\nEnhancing the festivities\, enjoy delicious food from Evelyn Mae's BBQ food truck and live music by the talented Gypsy Jazz Guitar musicians. Additionally\, the Villwocks team will be giving away hanging basket door prizes. Don't miss out on this exciting event!\n\nIn addition to the new Dorothy & Al's Farm Market\, customers can continue to take advantage of current services including property management\, spring and fall cleanups\, lawn/bed maintenance\, pool/spa installation and service\, pest control\, lawn fertilization\, new landscaping design and installation\, sprinkler systems installation\, outdoor power equipment sales and service\, snow plowing\, and "The Garden Center" featuring trees and shrubs available all season\, as well as vegetable seedlings\, annuals\, and perennials will continue to be available. \n \n\nVisit them in person at 8008 M-139 Berrien Springs\, online at villwocksoutdoorliving.com or by calling or texting 269-815-5415 for more information.
X-ALT-DESC;FMTTYPE=text/html:<div style="text-align: center\;"><span style="color:#000000\;"><span style="box-sizing: border-box\; margin: 0px\; padding: 0px\; border: 0px\; outline: 0px\; font-size: 18px\; vertical-align: baseline\; background-image: initial\; background-position: initial\; background-size: initial\; background-repeat: initial\; background-attachment: initial\; background-origin: initial\; background-clip: initial\; font-family: arial\, sans-serif\;"><strong>SAVE THE DATE AND JOIN THE SOUTHWEST MICHIGAN REGIONAL CHAMBER AND HARBOR COUNTRY CHAMBER ON JUNE 6TH!&nbsp\;</strong></span></span></div>\n&nbsp\;\n\n<p dir="ltr" style="box-sizing: border-box\; margin: 0pt 0px\; padding: 0px\; border: 0px\; outline: 0px\; font-size: 18px\; vertical-align: baseline\; background-image: initial\; background-position: initial\; background-size: initial\; background-repeat: initial\; background-attachment: initial\; background-origin: initial\; background-clip: initial\; font-family: Mundial\, Arial\, Helvetica\, sans-serif\; color: rgb(60\, 60\, 60)\; line-height: 1.2\;"><span color:="" font-variant-alternates:="" font-variant-east-asian:="" font-variant-numeric:="" font-variant-position:="" new="" style="box-sizing: border-box\; margin: 0px\; padding: 0px\; border: 0px\; outline: 0px\; font-size: 12pt\; vertical-align: baseline\; background: transparent\; font-family: " times="" white-space-collapse:="">There is something to be said about having both a vision for a project as well as the passion and ability to see it come to life. That&rsquo\;s exactly what Michael Villwock has been able to accomplish with his growing business Villwocks Outdoor Living and now Dorothy &amp\; Al&rsquo\;s Farm Market.&nbsp\;</span></p>\n<span style="color: rgb(60\, 60\, 60)\; font-family: Mundial\, Arial\, Helvetica\, sans-serif\; font-size: 18px\;">&nbsp\;</span>\n\n<p dir="ltr" style="box-sizing: border-box\; margin: 0pt 0px\; padding: 0px\; border: 0px\; outline: 0px\; font-size: 18px\; vertical-align: baseline\; background-image: initial\; background-position: initial\; background-size: initial\; background-repeat: initial\; background-attachment: initial\; background-origin: initial\; background-clip: initial\; font-family: Mundial\, Arial\, Helvetica\, sans-serif\; color: rgb(60\, 60\, 60)\; line-height: 1.2\;"><span color:="" font-variant-alternates:="" font-variant-east-asian:="" font-variant-numeric:="" font-variant-position:="" new="" style="box-sizing: border-box\; margin: 0px\; padding: 0px\; border: 0px\; outline: 0px\; font-size: 12pt\; vertical-align: baseline\; background: transparent\; font-family: " times="" white-space-collapse:="">Having expanded first at the M-139 location in Berrien Springs last year with the addition of a new 24\,000 square foot greenhouse\, 2024 saw Michael and his family also announced the opening of a new Sawyer location for Villwocks Outdoor Living and simultaneously the opening of Dorothy &amp\; Al&rsquo\;s Farm Market (Berrien Springs).&nbsp\;</span></p>\n<span style="color: rgb(60\, 60\, 60)\; font-family: Mundial\, Arial\, Helvetica\, sans-serif\; font-size: 18px\;">&nbsp\;</span>\n\n<p dir="ltr" style="box-sizing: border-box\; margin: 0pt 0px\; padding: 0px\; border: 0px\; outline: 0px\; font-size: 18px\; vertical-align: baseline\; background-image: initial\; background-position: initial\; background-size: initial\; background-repeat: initial\; background-attachment: initial\; background-origin: initial\; background-clip: initial\; font-family: Mundial\, Arial\, Helvetica\, sans-serif\; color: rgb(60\, 60\, 60)\; line-height: 1.2\;"><span color:="" font-variant-alternates:="" font-variant-east-asian:="" font-variant-numeric:="" font-variant-position:="" new="" style="box-sizing: border-box\; margin: 0px\; padding: 0px\; border: 0px\; outline: 0px\; font-size: 12pt\; vertical-align: baseline\; background: transparent\; font-family: " times="" white-space-collapse:="">&ldquo\;Dorothy &amp\; Al are my grandparents\, the ones who introduced me to the world of agriculture and horticulture and helped me fall in love with it\,&rdquo\; says Villwock. &ldquo\;Being able to open a farm market in their honor and continue to provide opportunities for people to connect with our roots means the world to me\, my family\, and our team.&rdquo\;&nbsp\;</span></p>\n<span style="color: rgb(60\, 60\, 60)\; font-family: Mundial\, Arial\, Helvetica\, sans-serif\; font-size: 18px\;">&nbsp\;</span>\n\n<p dir="ltr" style="box-sizing: border-box\; margin: 0pt 0px\; padding: 0px\; border: 0px\; outline: 0px\; font-size: 18px\; vertical-align: baseline\; background-image: initial\; background-position: initial\; background-size: initial\; background-repeat: initial\; background-attachment: initial\; background-origin: initial\; background-clip: initial\; font-family: Mundial\, Arial\, Helvetica\, sans-serif\; color: rgb(60\, 60\, 60)\; line-height: 1.2\;"><span color:="" font-variant-alternates:="" font-variant-east-asian:="" font-variant-numeric:="" font-variant-position:="" new="" style="box-sizing: border-box\; margin: 0px\; padding: 0px\; border: 0px\; outline: 0px\; font-size: 12pt\; vertical-align: baseline\; background: transparent\; font-family: " times="" white-space-collapse:="">Dorothy &amp\; Al&rsquo\;s Farm Market will have a true farm market feel to it\, with multiple regional vendors&#39\; products showcased inside\, including many from Southwest Michigan!</span></p>\n<span style="color: rgb(60\, 60\, 60)\; font-family: Mundial\, Arial\, Helvetica\, sans-serif\; font-size: 18px\;">&nbsp\;</span>\n\n<p dir="ltr" style="box-sizing: border-box\; margin: 0pt 0px\; padding: 0px\; border: 0px\; outline: 0px\; font-size: 18px\; vertical-align: baseline\; background-image: initial\; background-position: initial\; background-size: initial\; background-repeat: initial\; background-attachment: initial\; background-origin: initial\; background-clip: initial\; font-family: Mundial\, Arial\, Helvetica\, sans-serif\; color: rgb(60\, 60\, 60)\; line-height: 1.2\;"><span color:="" font-variant-alternates:="" font-variant-east-asian:="" font-variant-numeric:="" font-variant-position:="" new="" style="box-sizing: border-box\; margin: 0px\; padding: 0px\; border: 0px\; outline: 0px\; font-size: 12pt\; vertical-align: baseline\; background: transparent\; font-family: " times="" white-space-collapse:="">&ldquo\;We are continuing to build on making our space a destination for folks to visit and provide them with access to other businesses that they may otherwise never discover\,&rdquo\; adds Villwock.&nbsp\;</span></p>\n\n<p dir="ltr" style="box-sizing: border-box\; margin: 12pt 0px\; padding: 0px\; border: 0px\; outline: 0px\; font-size: 18px\; vertical-align: baseline\; background-image: initial\; background-position: initial\; background-size: initial\; background-repeat: initial\; background-attachment: initial\; background-origin: initial\; background-clip: initial\; font-family: Mundial\, Arial\, Helvetica\, sans-serif\; color: rgb(60\, 60\, 60)\; line-height: 1.2\;"><strong><span color:="" font-variant-alternates:="" font-variant-east-asian:="" font-variant-numeric:="" font-variant-position:="" new="" style="box-sizing: border-box\; margin: 0px\; padding: 0px\; border: 0px\; outline: 0px\; font-size: 12pt\; vertical-align: baseline\; background: transparent\; font-family: " times="" white-space-collapse:="">Join us for an official Ribbon Cutting celebration on Thursday\, June 6th\, from 4:00 to 7:00 p.m.\, co-hosted by the Southwest Michigan Regional Chamber and the Harbor Country Chamber of Commerce. The event will feature remarks and the cutting of the ribbon&nbsp\;at 5:30 p.m.</span></strong></p>\n\n<p dir="ltr" style="box-sizing: border-box\; margin: 12pt 0px\; padding: 0px\; border: 0px\; outline: 0px\; font-size: 18px\; vertical-align: baseline\; background-image: initial\; background-position: initial\; background-size: initial\; background-repeat: initial\; background-attachment: initial\; background-origin: initial\; background-clip: initial\; font-family: Mundial\, Arial\, Helvetica\, sans-serif\; color: rgb(60\, 60\, 60)\; line-height: 1.2\;"><span color:="" font-variant-alternates:="" font-variant-east-asian:="" font-variant-numeric:="" font-variant-position:="" new="" style="box-sizing: border-box\; margin: 0px\; padding: 0px\; border: 0px\; outline: 0px\; font-size: 12pt\; vertical-align: baseline\; background: transparent\; font-family: " times="" white-space-collapse:="">Enhancing the festivities\, enjoy delicious food from Evelyn Mae&rsquo\;s BBQ food truck and live music by the talented Gypsy Jazz Guitar musicians. Additionally\, the Villwocks team will be giving away hanging basket door prizes. Don&#39\;t miss out on this exciting event!</span></p>\n\n<p dir="ltr" style="box-sizing: border-box\; margin: 0pt 0px\; padding: 0px\; border: 0px\; outline: 0px\; font-size: 18px\; vertical-align: baseline\; background-image: initial\; background-position: initial\; background-size: initial\; background-repeat: initial\; background-attachment: initial\; background-origin: initial\; background-clip: initial\; font-family: Mundial\, Arial\, Helvetica\, sans-serif\; color: rgb(60\, 60\, 60)\; line-height: 1.2\;"><span color:="" font-variant-alternates:="" font-variant-east-asian:="" font-variant-numeric:="" font-variant-position:="" new="" style="box-sizing: border-box\; margin: 0px\; padding: 0px\; border: 0px\; outline: 0px\; font-size: 12pt\; vertical-align: baseline\; background: transparent\; font-family: " times="" white-space-collapse:="">In addition to the new Dorothy &amp\; Al&rsquo\;s Farm Market\, customers can continue to take advantage of current services including property management\, spring and fall cleanups\, lawn/bed maintenance\, pool/spa installation and service\, pest control\, lawn fertilization\, new landscaping design and installation\, sprinkler systems installation\, outdoor power equipment sales and service\, snow plowing\, and &ldquo\;The Garden Center&rdquo\; featuring trees and shrubs available all season\, as well as vegetable seedlings\, annuals\, and perennials will continue to be available.&nbsp\;</span></p>\n<span style="color: rgb(60\, 60\, 60)\; font-family: Mundial\, Arial\, Helvetica\, sans-serif\; font-size: 18px\;">&nbsp\;</span>\n\n<p dir="ltr" style="box-sizing: border-box\; margin: 0pt 0px\; padding: 0px\; border: 0px\; outline: 0px\; font-size: 18px\; vertical-align: baseline\; background-image: initial\; background-position: initial\; background-size: initial\; background-repeat: initial\; background-attachment: initial\; background-origin: initial\; background-clip: initial\; font-family: Mundial\, Arial\, Helvetica\, sans-serif\; color: rgb(60\, 60\, 60)\; line-height: 1.2\;"><span color:="" font-variant-alternates:="" font-variant-east-asian:="" font-variant-numeric:="" font-variant-position:="" new="" style="box-sizing: border-box\; margin: 0px\; padding: 0px\; border: 0px\; outline: 0px\; font-size: 12pt\; vertical-align: baseline\; background: transparent\; font-family: " times="" white-space-collapse:="">Visit them in person at 8008 M-139 Berrien Springs\, online at </span><a style="box-sizing: border-box\; margin: 0px\; padding: 0px\; border: 0px\; outline: 0px\; vertical-align: baseline\; background: transparent\; color: inherit\; font-weight: bold\; overflow-wrap: break-word\;"><span color:="" font-variant-alternates:="" font-variant-east-asian:="" font-variant-numeric:="" font-variant-position:="" new="" style="box-sizing: border-box\; margin: 0px\; padding: 0px\; border: 0px\; outline: 0px\; font-size: 12pt\; vertical-align: baseline\; background: transparent\; font-family: " text-decoration-line:="" text-decoration-skip-ink:="" times="" white-space-collapse:="">villwocksoutdoorliving.com</span></a><span color:="" font-variant-alternates:="" font-variant-east-asian:="" font-variant-numeric:="" font-variant-position:="" new="" style="box-sizing: border-box\; margin: 0px\; padding: 0px\; border: 0px\; outline: 0px\; font-size: 12pt\; vertical-align: baseline\; background: transparent\; font-family: " times="" white-space-collapse:=""> or by calling or texting 269-815-5415 for more information.&nbsp\;</span></p>\n
LOCATION:8008 M-139 Berrien Springs
UID:e.1569.15752
SEQUENCE:3
DTSTAMP:20260421T164803Z
URL:https://business.smrchamber.com/events/details/ribbon-cutting-villwocks-dorothy-al-s-farm-market-15752
END:VEVENT

END:VCALENDAR
