BEGIN:VCALENDAR
VERSION:2.0
PRODID:-//ChamberMaster//Event Calendar 2.0//EN
METHOD:PUBLISH
X-PUBLISHED-TTL:P3D
REFRESH-INTERVAL:P3D
CALSCALE:GREGORIAN
BEGIN:VEVENT
DTSTART:20260126T170000Z
DTEND:20260126T180000Z
X-MICROSOFT-CDO-ALLDAYEVENT:FALSE
SUMMARY:Ribbon Cutting: MWF/106.1 & Visit SW Michigan
DESCRIPTION:Join us in celebrating the launch of Visit Southwest Michigan Radio\, now airing on 106.1 FM and streaming worldwide. Created to serve both local residents and visitors\, the station features a vibrant mix of feel-good seasonal music alongside local spotlights\, community updates\, and highlights of the attractions and experiences that make Southwest Michigan unique.\n\nTo mark the launch\, Visit Southwest Michigan\, Mid-West Family Marketing and Media\, and the Southwest Michigan Regional Chamber will host a ribbon cutting celebration on Monday\, January 26 at noon\, with brief speaking remarks beginning at 12:15 pm. \n\n \n\nCommunity members\, partners\, and guests are invited to attend\, enjoy small bites and beverages\, and help welcome this new voice dedicated to connecting people to our region.\n\n \n\nAttendees will also have the chance to win one of ten prizes commemorating the launch\, adding an extra layer of fun to the celebration\n\n\n\nWhether you're discovering Southwest Michigan for the first time or already call it home\, Visit Southwest Michigan Radio offers a fresh way to stay connected to what's happening across the area. Tune in on 106.1 FM\, stream from anywhere\, and learn more at swmichigan.org.
X-ALT-DESC;FMTTYPE=text/html:<div aria-controls=":4wv" aria-expanded="false" aria-label="Message Body" aria-multiline="true" aria-owns=":4wv" data-gramm="false" data-lpop-hide-native-caret="" data-qb-tmp-id="lt-750384" data-qb-tweaks="gmail" g_editable="true" id=":30l" itacorner="6\,7:1\,1\,0\,0" jsaction="utQure:.CLIENT\;tkRwsc:.CLIENT\;input:.CLIENT\;uLRpAf:.CLIENT\;yGfh2c:.CLIENT" role="textbox" spellcheck="false" style="direction:ltr\;min-height:317px\;" tabindex="1" writingsuggestions="false">\n<p><span style="font-size:14px\;"><span style="font-family:arial\;">Join us in celebrating the launch of&nbsp\;Visit Southwest Michigan Radio\, now airing on&nbsp\;106.1 FM&nbsp\;and streaming worldwide. Created to serve both local residents and visitors\, the station features a vibrant mix of feel-good seasonal music alongside local spotlights\, community updates\, and highlights of the attractions and experiences that make Southwest Michigan unique.</span></span></p>\n\n<p style="caret-color: rgba(0\, 0\, 0\, 0)\; margin: 0px\; padding: 0px\; color: rgb(31\, 31\, 31)\; font-family: Arial\, Verdana\, Helvetica\, sans-serif\; font-size: 14px\; white-space-collapse: preserve\;">To mark the launch\, Visit Southwest Michigan\, Mid-West Family Marketing and Media\, and the Southwest Michigan Regional Chamber will host a ribbon cutting celebration on <span style="font-weight: bold\;">Monday\, January 26 at noon\, with brief speaking remarks beginning at 12:15 pm. </span><br />\n&nbsp\;</p>\n\n<p style="caret-color: rgba(0\, 0\, 0\, 0)\; margin: 0px\; padding: 0px\; color: rgb(31\, 31\, 31)\; font-family: Arial\, Verdana\, Helvetica\, sans-serif\; font-size: 14px\; white-space-collapse: preserve\;">Community members\, partners\, and guests are invited to attend\, enjoy small bites and beverages\, and help welcome this new voice dedicated to connecting people to our region.</p>\n\n<p style="caret-color: rgba(0\, 0\, 0\, 0)\; margin: 0px\; padding: 0px\; color: rgb(31\, 31\, 31)\; font-family: Arial\, Verdana\, Helvetica\, sans-serif\; font-size: 14px\; white-space-collapse: preserve\;">&nbsp\;</p>\n\n<p style="caret-color: rgba(0\, 0\, 0\, 0)\; margin: 0px\; padding: 0px\; color: rgb(31\, 31\, 31)\; font-family: Arial\, Verdana\, Helvetica\, sans-serif\; font-size: 14px\; white-space-collapse: preserve\;">Attendees will also have the chance to win one of ten prizes commemorating the launch\, adding an extra layer of fun to the celebration<br />\n<br />\n<span style="font-size:14px\;"><span style="font-family:arial\;">Whether you&rsquo\;re discovering Southwest Michigan for the first time or already call it home\, Visit Southwest Michigan Radio offers a fresh way to stay connected to what&rsquo\;s happening across the area. Tune in on&nbsp\;106.1 FM\, stream from anywhere\, and learn more at&nbsp\;swmichigan.org.</span></span></p>\n</div>\n
LOCATION:Mid-West Family Marketing and Media 580 E Napier Avenue Benton Harbor\, MI
UID:e.1569.17898
SEQUENCE:3
DTSTAMP:20260422T100340Z
URL:https://business.smrchamber.com/events/details/ribbon-cutting-mwf-106-1-visit-sw-michigan-17898
END:VEVENT

END:VCALENDAR
