BEGIN:VCALENDAR
VERSION:2.0
PRODID:-//ChamberMaster//Event Calendar 2.0//EN
METHOD:PUBLISH
X-PUBLISHED-TTL:P3D
REFRESH-INTERVAL:P3D
CALSCALE:GREGORIAN
BEGIN:VEVENT
DTSTART:20210210T000000Z
DTEND:20210210T020000Z
X-MICROSOFT-CDO-ALLDAYEVENT:FALSE
SUMMARY:National Geographic Live: Scientific Exposure
DESCRIPTION:As an official venue partner of the National Geographic Live speaker series\, The Mendel Center at Lake Michigan College in Benton Harbor is offering the second of three virtual events on Tuesday\, February 9\, 2021\, at 7 pm with Scientific Exposure.\n\n \n\nNatural history photographers working with National Geographic have often emerged from scientific backgrounds\, enabling them to reveal wildlife and our natural world in surprising ways. Molecular biologist-turned-photographer Prasenjeet Yadav combines his experience in research with his photography skills to highlight natural history and science stories in Asia. Anand Varma has developed innovative techniques to create stunning images of creatures whose details are otherwise invisible to the naked eye. \n\n \n\nJoin them for stories and conversation on the intriguing intersection of science and photography.\n\n \n\nAbout the speakers\n\nAnand Varma\n\nAnand Varma graduated with a degree in integrative biology from UC Berkeley and uses photography to share the story behind the science on everything from honeybee health to hummingbird biomechanics. He works to reveal the invisible details around us with the goal of sparking a sense of wonder about our world. Since receiving an Early Career Grant from National Geographic in 2010\, he has photographed numerous stories for National Geographic magazine\, including the 2014 cover story called "Mindsuckers." His recognitions include National Geographic Emerging Explorer\, Media Innovation Fellow\, Photographer of the Year\, and World Press Award for best nature story. \n\n \n\nPrasenjeet Yadav\n\nPrasenjeet Yadav is a molecular ecologist-turned-natural history and science photographer based in India. He combines his research experience with his photography skills to popularize ecological and conservation sciences to a wider audience. To create impactful stories\, he collaborates with researchers\, administrators\, policy makers\, and conservationists. His previous projects have focused on topics such as species adaptation in sky islands\, ecological impacts of sustainable energy\, and human-animal interaction. He is a founding member of Shoot for Science\, an initiative to train scientists in visual science communication. Yadav is a contributing photographer for publications including National Geographic magazine\, National Public Radio\, and Wired.\n\n \n\nThe National Geographic Live speaker series delivers behind-the-scenes stories\, stunning imagery\, and gripping footage from world-renowned photographers\, scientists\, authors\, filmmakers\, conservationists\, and adventurers. While Nat Geo Live speakers are normally brought to venues in person\, only live virtual events will be offered in early 2021 due to COVID-19.\n\n \n\nA flexible registration pricing range of $15 - $25 per event allows participants to support the series as they are able while making these presentations accessible and affordable. Online passes are available for purchase at www.TheMendelCenter.com or by calling the box office at 269-927-8700\, option 1\, Mondays through Thursdays from 2 to 6 p.m. At this time\, walk-in box office hours are not available in the interest of the health and safety of patrons and staff.\n\n \n\nOther upcoming National Geographic Live virtual events presented by The Mendel Center include Life on Other Worlds on Tuesday\, January 19\, 7 pm\, and Feats in Filmmaking on Tuesday\, March 16\, 7 pm.\n\n \n\nThe National Geographic Live virtual event series is supported by The Michigan Council for Arts and Cultural Affairs. It is also supported by the Gast Young People's Performance Endowment. \n\n\n\nMendel Center Season Sponsors\n\nStage Side: The Boulevard Inn & Bistro\, Honor Credit Union\, The Inn at Harbor Shores\, Kruggel Lawton CPAs\, Meijer\, Southwestern Michigan Tourist Council\, Spectrum Health Lakeland\, TCF Bank\, TPC Technologies.\n\n \n\nPlatinum: B&L Information Systems\, Berrien Community Foundation\, Citadel Dance and Music Center\, Hungerford Nichols CPAs + Advisors\, Insurance Management Services\, Pier 33\, Siena Heights University\n\n \n\nGold: Beaudoin Electrical Construction\, Inc.\, Hanson Group\, Holt Bosse\, Horizon Bank\, Metzger Insurance Agency\, Silver Beach Pizza\, Southshore Concert Band\, Studio 807.
X-ALT-DESC;FMTTYPE=text/html:<span style="font-family:tahoma\,sans-serif\;"><span style="font-size:10.5pt\;">As an official venue partner of the <em>National Geographic Live</em> speaker series\, The Mendel Center at Lake Michigan College in Benton Harbor is offering the second of three virtual events on <strong>Tuesday\, February 9\, 2021\, at 7 pm</strong> with <strong>Scientific Exposure</strong>.</span></span><br />\n&nbsp\;<br />\n<span style="color:black\;"><span style="font-family:tahoma\,sans-serif\;"><span style="font-size:10.5pt\;">Natural history photographers working with National Geographic have often emerged from scientific backgrounds\, enabling them to reveal wildlife and our natural world in surprising ways. Molecular biologist-turned-photographer Prasenjeet Yadav combines his experience in research with his photography skills to highlight natural history and science stories in Asia. Anand Varma has developed innovative techniques to create stunning images of creatures whose details are otherwise invisible to the naked eye. </span></span></span><br />\n&nbsp\;<br />\n<span style="color:black\;"><span style="font-family:tahoma\,sans-serif\;"><span style="font-size:10.5pt\;">Join them for stories and conversation on the intriguing intersection of science and photography.</span></span></span><br />\n&nbsp\;<br />\n<em><span style="font-family:tahoma\,sans-serif\;"><span style="font-size:10.5pt\;">About the speakers</span></span></em><br />\n<strong><span style="color:black\;"><span style="font-family:tahoma\,sans-serif\;"><span style="font-size:10.5pt\;">Anand Varma</span></span></span></strong><br />\n<span style="font-family:tahoma\,sans-serif\;"><span style="font-size:10.5pt\;">Anand Varma graduated with a degree in integrative biology from UC Berkeley and <span style="background-image:initial\;background-position:initial\;background-size:initial\;background-repeat:initial\;background-attachment:initial\;background-origin:initial\;background-clip:initial\;"><span style="color:#222222\;">uses photography to share the story behind the science on everything from honeybee health to hummingbird biomechanics. He works to reveal the invisible details around us with the goal of sparking a sense of wonder about our world. </span></span>Since receiving an Early Career Grant from National Geographic in 2010\, he has photographed numerous stories for <em>National Geographic</em> magazine\, including the 2014 cover story called &ldquo\;Mindsuckers.&rdquo\; His recognitions include National Geographic Emerging Explorer\, Media Innovation Fellow\, Photographer of the Year\, and World Press Award for best nature story. </span></span><br />\n&nbsp\;<br />\n<strong><span style="color:black\;"><span style="font-family:tahoma\,sans-serif\;"><span style="font-size:10.5pt\;">Prasenjeet Yadav</span></span></span></strong><br />\n<span style="color:black\;"><span style="font-family:tahoma\,sans-serif\;"><span style="font-size:10.5pt\;">Prasenjeet Yadav is a molecular ecologist-turned-natural history and science photographer based in India. He combines his research experience with his photography skills to popularize ecological and conservation sciences to a wider audience. To create impactful stories\, he collaborates with researchers\, administrators\, policy makers\, and conservationists. His previous projects have focused on topics such as species adaptation in sky islands\, ecological impacts of sustainable energy\, and human-animal interaction. He is a founding member of Shoot for Science\, an initiative to train scientists in visual science communication. Yadav is a contributing photographer for publications including <em>National Geographic</em> magazine\, National Public Radio\, and Wired.</span></span></span><br />\n&nbsp\;<br />\n<span style="font-family:tahoma\,sans-serif\;"><span style="font-size:10.5pt\;">The <em>National Geographic Live</em> speaker series delivers behind-the-scenes stories\, stunning imagery\, and gripping footage from world-renowned photographers\, scientists\, authors\, filmmakers\, conservationists\, and adventurers. While <em>Nat Geo Live</em> speakers are normally brought to venues in person\, only live virtual events will be offered in early 2021 due to COVID-19.</span></span><br />\n&nbsp\;<br />\n<span style="font-family:tahoma\,sans-serif\;"><span style="font-size:10.5pt\;">A flexible registration pricing range of $15 - $25 per event allows participants to support the series as they are able while making these presentations accessible and affordable. Online passes are available for purchase at </span></span><a href="http://www.TheMendelCenter.com" target="_blank"><span style="font-family:tahoma\,sans-serif\;"><span style="font-size:10.5pt\;">www.TheMendelCenter.com</span></span></a><span style="font-family:tahoma\,sans-serif\;"><span style="font-size:10.5pt\;"> or by calling the box office at 269-927-8700\, option 1\, Mondays through Thursdays from 2 to 6 p.m. At this time\, walk-in box office hours are not available in the interest of the health and safety of patrons and staff.</span></span><br />\n&nbsp\;<br />\n<span style="font-family:tahoma\,sans-serif\;"><span style="font-size:10.5pt\;">Other upcoming <em>National Geographic Live</em> virtual events presented by The Mendel Center include<strong> Life on Other Worlds</strong> on Tuesday\, January 19\, 7 pm\, and <strong>Feats in Filmmaking</strong> on Tuesday\, March 16\, 7 pm.</span></span><br />\n&nbsp\;<br />\n<span style="color:black\;"><span style="font-family:tahoma\,sans-serif\;"><span style="font-size:10.5pt\;">The <em>National Geographic Live</em> virtual event series is supported by The Michigan Council for Arts and Cultural Affairs. It is also supported by the Gast Young People&rsquo\;s Performance Endowment. </span></span></span><br />\n<br />\n<strong><span style="font-family:tahoma\,sans-serif\;"><span style="font-size:10.5pt\;">Mendel Center Season Sponsors</span></span></strong><br />\n<strong><span style="color:black\;"><span style="font-family:tahoma\,sans-serif\;"><span style="font-size:10.5pt\;">Stage Side</span></span></span></strong><span style="color:black\;"><span style="font-family:tahoma\,sans-serif\;"><span style="font-size:10.5pt\;">: The Boulevard Inn &amp\; Bistro\, Honor Credit Union\, The Inn at Harbor Shores\, Kruggel Lawton CPAs\, Meijer\, Southwestern Michigan Tourist Council\, Spectrum Health Lakeland\, TCF Bank\, TPC Technologies.</span></span></span><br />\n&nbsp\;<br />\n<strong><span style="color:black\;"><span style="font-family:tahoma\,sans-serif\;"><span style="font-size:10.5pt\;">Platinum</span></span></span></strong><span style="color:black\;"><span style="font-family:tahoma\,sans-serif\;"><span style="font-size:10.5pt\;">: B&amp\;L Information Systems\, Berrien Community Foundation\, Citadel Dance and Music Center\, Hungerford Nichols CPAs + Advisors\, Insurance Management Services\, Pier 33\, Siena Heights University</span></span></span><br />\n&nbsp\;<br />\n<strong><span style="color:black\;"><span style="font-family:tahoma\,sans-serif\;"><span style="font-size:10.5pt\;">Gold</span></span></span></strong><span style="color:black\;"><span style="font-family:tahoma\,sans-serif\;"><span style="font-size:10.5pt\;">: Beaudoin Electrical Construction\, Inc.\, Hanson Group\, Holt Bosse\, Horizon Bank\, Metzger Insurance Agency\, Silver Beach Pizza\, Southshore Concert Band\, Studio 807. </span></span></span><br />\n&nbsp\;
LOCATION:Online!
UID:e.1569.9463
SEQUENCE:3
DTSTAMP:20260419T185748Z
URL:https://business.smrchamber.com/events/details/national-geographic-live-scientific-exposure-9463
END:VEVENT

END:VCALENDAR
