BEGIN:VCALENDAR
VERSION:2.0
PRODID:-//ChamberMaster//Event Calendar 2.0//EN
METHOD:PUBLISH
X-PUBLISHED-TTL:P3D
REFRESH-INTERVAL:P3D
CALSCALE:GREGORIAN
BEGIN:VEVENT
DTSTART:20260514T220000Z
DTEND:20260514T233000Z
X-MICROSOFT-CDO-ALLDAYEVENT:FALSE
SUMMARY:Improv for Life
DESCRIPTION:Through interactive improv exercises\, you'll build confidence\, step outside your comfort zone\, and learn to show up more fully.\n\n\n\n\n\nAt Lumiere Haus\, we focus on experiences that help you grow into a more confident\, self-assured version of yourself and show up more fully in your life. This workshop does exactly that.\n\nImprov changes lives -- and not just through laughter. Skills like listening\, adaptability\, and presence directly impact how you show up in work and life. Improv short for improvisational theater is about thinking on your feet through simple\, guided exercises and games.\n\nJoin Meredith A. Frank for a workshop about developing confidence\, connection\, and a sense of play through the fundamentals of improv\, bringing you that much closer to your most joyful\, authentic self. You'll participate in guided exercises and leave with practical tools you can apply immediately.\n\nNo experience required you don't have to be funny\, just willing to participate. Come prepared to participate in this bold\, dynamic event.\n\n\n\n \n\nWho it's for: Anyone looking to build confidence and connection (no improv background needed)\n\n\n\nWhat to expect: Interactive exercises\, group activities\, and real-world takeaways
X-ALT-DESC;FMTTYPE=text/html:<div>\n<div>\n<p>Through interactive improv exercises\, you&rsquo\;ll build confidence\, step outside your comfort zone\, and learn to show up more fully.</p>\n</div>\n</div>\n\n<div>\n<div>\n<p>At Lumiere Haus\, we focus on experiences that help you grow into a more confident\, self-assured version of yourself and show up more fully in your life. This workshop does exactly that.</p>\n\n<p>Improv changes lives -- and not just through laughter. Skills like listening\, adaptability\, and presence directly impact how you show up in work and life. Improv&mdash\;short for improvisational theater&mdash\;is about thinking on your feet through simple\, guided exercises and games.</p>\n\n<p>Join Meredith A. Frank for a workshop about developing confidence\, connection\, and a sense of play through the fundamentals of improv\, bringing you that much closer to your most joyful\, authentic self. You&rsquo\;ll participate in guided exercises and leave with practical tools you can apply immediately.</p>\n\n<p>No experience required&mdash\;you don&rsquo\;t have to be funny\, just willing to participate. Come prepared to participate in this bold\, dynamic event.<br />\n<br />\n&nbsp\;</p>\n\n<p><strong>Who it&rsquo\;s for:&nbsp\;</strong>Anyone looking to build confidence and connection (no improv background needed)</p>\n\n<p><br />\n<strong>What to expect:</strong>&nbsp\;Interactive exercises\, group activities\, and real-world takeaways</p>\n</div>\n</div>\n
LOCATION:The Box Factory in St. Joseph\, Michigan.
UID:e.1569.18060
SEQUENCE:3
DTSTAMP:20260423T165440Z
URL:https://business.smrchamber.com/events/details/improv-for-life-18060
END:VEVENT

END:VCALENDAR
