BEGIN:VCALENDAR
VERSION:2.0
PRODID:-//ChamberMaster//Event Calendar 2.0//EN
METHOD:PUBLISH
X-PUBLISHED-TTL:P3D
REFRESH-INTERVAL:P3D
CALSCALE:GREGORIAN
BEGIN:VEVENT
DTSTART:20200211T203000Z
DTEND:20200211T220000Z
X-MICROSOFT-CDO-ALLDAYEVENT:FALSE
SUMMARY:Good Grief: Bereavement Sharing and Education Program
DESCRIPTION:This program has been designed to help people gain knowledge and strength to walk through grief to a greater sense of wholeness. Good Grief if a free program that covers topics such as why you feel the way you do\; how to cope with loss\, guilt and regret\, and finding a sense of peace. This program is offered several times a year. Each seven-week session meets for an hour and thirty minutes of information and sharing\, and is free of charge and open to anyone in the community.\n\n\n\nFor more information\, and to find out about other ongoing bereavement programs\, call Caring Circle at (269) 429-7100
X-ALT-DESC;FMTTYPE=text/html:This program has been designed to help people gain knowledge and strength to walk through grief to a greater sense of wholeness. Good Grief if a free program that covers topics such as why you feel the way you do\; how to cope with loss\, guilt and regret\, and finding a sense of peace. This program is offered several times a year. Each seven-week session meets for an hour and thirty minutes of information and sharing\, and is free of charge and open to anyone in the community.<br />\n<br />\n<span style="color:#211D1E\;"><span style="font-family:calibri\,sans-serif\;"><span style="font-size:11.0pt\;">For more information\, and to find out about other ongoing bereavement programs\, call Caring Circle at (269) 429-7100&nbsp\;</span></span></span>
LOCATION:Caring Circle 4025 Health Park Lane St. Joseph\, MI 49085
UID:e.1569.8486
SEQUENCE:3
DTSTAMP:20260420T185836Z
URL:https://business.smrchamber.com/events/details/good-grief-bereavement-sharing-and-education-program-02-11-2020-8486
END:VEVENT

END:VCALENDAR
