BEGIN:VCALENDAR
VERSION:2.0
PRODID:-//ChamberMaster//Event Calendar 2.0//EN
METHOD:PUBLISH
X-PUBLISHED-TTL:P3D
REFRESH-INTERVAL:P3D
CALSCALE:GREGORIAN
BEGIN:VEVENT
DTSTART:20240708T180000Z
DTEND:20240713T140000Z
X-MICROSOFT-CDO-ALLDAYEVENT:FALSE
SUMMARY:Family Camp Week 6
DESCRIPTION:Family Camp\n\n\n\nVacation with purpose at Life Action Camp\n\n\n\nSpeakers:\n\n\n\nJeremiah and Stephanie Canfield \n\n\n\nVenue:\nLife Action Camp\,\n\nBuchanan\, MI \n\n\n\nWe're all about Family Camp: activities designed for the whole family\, age-specific teaching during each session\, and much more. Family Camp is packed with fun from land to water.
X-ALT-DESC;FMTTYPE=text/html:<div style="background:transparent\; border:0px\; padding:0px">\n<h1 style="text-align:center"><strong>Family Camp</strong></h1>\n</div>\n\n<div style="background:transparent\; border:0px\; padding:0px">\n<h2 style="text-align:center"><span style="color:rgb(var(--color_11))">Vacation with purpose at Life Action Camp</span></h2>\n</div>\n\n<div>\n<h2><strong>Speakers:</strong><br />\n<br />\n<span style="font-size:14px">Jeremiah and Stephanie Canfield&nbsp\;</span></h2>\n</div>\n\n<div>\n<h2><strong>Venue:</strong></h2>\nLife Action Camp\,\n\n<address>Buchanan\,&nbsp\;MI&nbsp\;</address>\n</div>\n\n<div>\n<p>We&rsquo\;re all about Family Camp: activities designed for the whole family\, age-specific teaching during each session\, and much more. Family Camp is packed with fun from land to water.</p>\n</div>\n
LOCATION:Life Action Camp\, Buchanan\, MI
UID:e.1569.15692
SEQUENCE:3
DTSTAMP:20260420T230958Z
URL:https://business.smrchamber.com/events/details/family-camp-week-6-15692
END:VEVENT

END:VCALENDAR
