BEGIN:VCALENDAR
VERSION:2.0
PRODID:-//ChamberMaster//Event Calendar 2.0//EN
METHOD:PUBLISH
X-PUBLISHED-TTL:P3D
REFRESH-INTERVAL:P3D
CALSCALE:GREGORIAN
BEGIN:VEVENT
DTSTART:20260519T120000Z
DTEND:20260519T213000Z
X-MICROSOFT-CDO-ALLDAYEVENT:FALSE
SUMMARY:25th Anniversary Celebration & Ribbon Cutting: Fresh Decor
DESCRIPTION:Join us as we celebrate 25 years of Fresh Decor serving Southwest Michigan with a full day of fun\, food\, and special deals plus a ribbon-cutting celebration.\n\n\n\nDate: Tuesday\, May 19\n\nOpen House: 8:00 AM   5:30 PM\n\nRibbon Cutting Celebration: 11:00 AM 1:00 PM\n\n   Speaking Engagements: 12:30 PM\n\nLocation: Fresh Decor   283 8th Street\, Benton Harbor\n\n\n\nStop in anytime during the day to celebrate! Enjoy:\n\n\n\n   Food served all day\n\n    Live Prize Drawings with a Grand Prize* at the end of the day\n\n   Hot Buys and special anniversary deals\n\n\n\nFresh Decor has proudly served the community since 2001\, and this milestone is the perfect time to celebrate their continued commitment to quality products\, beautiful spaces\, and outstanding service. They've also recently updated their website\, making it easier than ever to explore their products and promotions be sure to check out all their latest offers at www.myfreshdecor.com.\n\n\n\nCome celebrate with Fresh Decor and the Regional Chamber as we mark this exciting 25-year milestone!\n\n\n\n*Grand Prize: 15-Piece White Cabinet Set ($6\,000.00 Value)\n\nPlease note: Terms & Conditions Apply. Assembly & Installation Not Included
X-ALT-DESC;FMTTYPE=text/html:Join us as we celebrate 25 years of Fresh Decor serving Southwest Michigan with a full day of fun\, food\, and special deals&mdash\;plus a ribbon-cutting celebration.<br />\n<br />\n<strong>Date</strong>: Tuesday\, May 19<br />\n<strong>Open House:</strong> 8:00 AM &ndash\; 5:30 PM<br />\n<strong>Ribbon Cutting Celebration:</strong> 11:00 AM&ndash\;1:00 PM<br />\n<span style="color:#FF0000\;"><strong>&mdash\;&gt\; Speaking Engagements:</strong> 12:30 PM</span><br />\n<strong>Location:</strong> Fresh Decor &ndash\; 283 8th Street\, Benton Harbor<br />\n<br />\nStop in anytime during the day to celebrate! Enjoy:<br />\n<br />\n&#127869\;&#65039\; Food served all day<br />\n&#127903\;&#65039\;&nbsp\; Live Prize Drawings with a Grand Prize* at the end of the day<br />\n&#128717\;&#65039\; Hot Buys and special anniversary deals<br />\n<br />\nFresh Decor has proudly served the community since 2001\, and this milestone is the perfect time to celebrate their continued commitment to quality products\, beautiful spaces\, and outstanding service. They&rsquo\;ve also recently updated their website\, making it easier than ever to explore their products and promotions&mdash\;be sure to check out all their latest offers at www.myfreshdecor.com.<br />\n<br />\nCome celebrate with Fresh Decor and the Regional Chamber as we mark this exciting 25-year milestone!<br />\n<br />\n*Grand Prize: 15-Piece White Cabinet Set ($6\,000.00 Value)<br />\nPlease note: Terms &amp\; Conditions Apply. Assembly &amp\; Installation Not Included
LOCATION:283 8th Street Benton Harbor\, MI
UID:e.1569.18059
SEQUENCE:3
DTSTAMP:20260421T223157Z
URL:https://business.smrchamber.com/events/details/25th-anniversary-celebration-ribbon-cutting-fresh-decor-18059
END:VEVENT

END:VCALENDAR
