BEGIN:VCALENDAR
VERSION:2.0
PRODID:-//ChamberMaster//Event Calendar 2.0//EN
METHOD:PUBLISH
X-PUBLISHED-TTL:P3D
REFRESH-INTERVAL:P3D
CALSCALE:GREGORIAN
BEGIN:VEVENT
DTSTART:20220917T140000Z
DTEND:20220917T190000Z
X-MICROSOFT-CDO-ALLDAYEVENT:FALSE
SUMMARY:2022 Fall Fest
DESCRIPTION:All ages are sure to have fun at this celebration of autumn! Attendees will enjoy the Critter Barn\, Balloon Twisters\, the Great Pumpkin Festival and more!
X-ALT-DESC;FMTTYPE=text/html:<div style="margin-left:auto\; margin-right:auto">\n<p>All ages are sure to have fun at this celebration of autumn! Attendees will enjoy the Critter Barn\, Balloon Twisters\, the Great Pumpkin Festival and more!</p>\n</div>\n\n<div>&nbsp\;</div>\n
LOCATION:Lake Bluff Park
UID:e.1569.14285
SEQUENCE:3
DTSTAMP:20260420T044448Z
URL:https://business.smrchamber.com/events/details/2022-fall-fest-14285
END:VEVENT

END:VCALENDAR
